﻿BEGIN:VCALENDAR
VERSION:2.0
PRODID:-//Renovação Carismática Católica do Paraná - ECPv4.6.18//NONSGML v1.0//EN
CALSCALE:GREGORIAN
METHOD:PUBLISH
X-WR-CALNAME:Renovação Carismática Católica do Paraná
X-ORIGINAL-URL:http://www.rccpr.com.br
X-WR-CALDESC:Eventos para Renovação Carismática Católica do Paraná
BEGIN:VEVENT
DTSTART;VALUE=DATE:20180505
DTEND;VALUE=DATE:20180507
DTSTAMP:20260426T034356
CREATED:20180611T185436Z
LAST-MODIFIED:20180613T203917Z
UID:2632-1525478400-1525651199@www.rccpr.com.br
SUMMARY:Encontro para Coordenadores da Província de Cascavel
DESCRIPTION:
URL:http://www.rccpr.com.br/event/encontro-para-coordenadores-da-provincia-de-cascavel/
LOCATION:Paraná\, Brasil
END:VEVENT
END:VCALENDAR