﻿BEGIN:VCALENDAR
VERSION:2.0
PRODID:-//Renovação Carismática Católica do Paraná - ECPv4.6.18//NONSGML v1.0//EN
CALSCALE:GREGORIAN
METHOD:PUBLISH
X-WR-CALNAME:Renovação Carismática Católica do Paraná
X-ORIGINAL-URL:http://www.rccpr.com.br
X-WR-CALDESC:Eventos para Renovação Carismática Católica do Paraná
BEGIN:VEVENT
DTSTART;VALUE=DATE:20180728
DTEND;VALUE=DATE:20180730
DTSTAMP:20260420T151821
CREATED:20180614T184111Z
LAST-MODIFIED:20180614T184111Z
UID:2764-1532736000-1532908799@www.rccpr.com.br
SUMMARY:Encontro Provincial - Maringá\, Campo Mourão\, Paranavaí e Umuarama
DESCRIPTION:Encontro Provincial para lideranças da RCC na Arquidiocese de Maringá e nas Dioceses de Campo Mourão\, Paranavaí e Umuarama. \n
URL:http://www.rccpr.com.br/event/encontro-provincial-maringa-campo-mourao-paranavai-e-umuarama/
LOCATION:Mandaguaçu\, Paraná\, Brasil
END:VEVENT
END:VCALENDAR